BEGIN:VCALENDAR
VERSION:2.0
PRODID:-// - ECPv6.15.14//NONSGML v1.0//EN
CALSCALE:GREGORIAN
METHOD:PUBLISH
X-ORIGINAL-URL:https://allabilitiesfun.com
X-WR-CALDESC:Events for 
REFRESH-INTERVAL;VALUE=DURATION:PT1H
X-Robots-Tag:noindex
X-PUBLISHED-TTL:PT1H
BEGIN:VTIMEZONE
TZID:America/Denver
BEGIN:DAYLIGHT
TZOFFSETFROM:-0700
TZOFFSETTO:-0600
TZNAME:MDT
DTSTART:20240310T090000
END:DAYLIGHT
BEGIN:STANDARD
TZOFFSETFROM:-0600
TZOFFSETTO:-0700
TZNAME:MST
DTSTART:20241103T080000
END:STANDARD
BEGIN:DAYLIGHT
TZOFFSETFROM:-0700
TZOFFSETTO:-0600
TZNAME:MDT
DTSTART:20250309T090000
END:DAYLIGHT
BEGIN:STANDARD
TZOFFSETFROM:-0600
TZOFFSETTO:-0700
TZNAME:MST
DTSTART:20251102T080000
END:STANDARD
BEGIN:DAYLIGHT
TZOFFSETFROM:-0700
TZOFFSETTO:-0600
TZNAME:MDT
DTSTART:20260308T090000
END:DAYLIGHT
BEGIN:STANDARD
TZOFFSETFROM:-0600
TZOFFSETTO:-0700
TZNAME:MST
DTSTART:20261101T080000
END:STANDARD
END:VTIMEZONE
BEGIN:VTIMEZONE
TZID:UTC
BEGIN:STANDARD
TZOFFSETFROM:+0000
TZOFFSETTO:+0000
TZNAME:UTC
DTSTART:20240101T000000
END:STANDARD
END:VTIMEZONE
BEGIN:VEVENT
DTSTART;TZID=America/Denver:20251011T120000
DTEND;TZID=America/Denver:20251011T120000
DTSTAMP:20260420T074125
CREATED:20250930T043924Z
LAST-MODIFIED:20250930T044255Z
UID:2628-1760184000-1760184000@allabilitiesfun.com
SUMMARY:Floating Pumpkin Patch\, Campbell
DESCRIPTION:It’s pumpkins galore in the pool! Dive into fall at our Floating Pumpkin Patch — swim around and pick your perfect pumpkin\, enjoy spooky games\, and get crafty with decorating fun!\nOur certified Life-ghouls will be on watch to keep the fun safe and splashy!\nTwo spooktacular pass options:\nFloating Pumpkin Pass – $15: Includes a pumpkin to take home\, swimming\, and all activities!\nActivity Pass – $10: Swimming & games only!\nAll kids 12 & under must have an adult with them. Everyone entering the pool needs a paid pass. Choose your pass & bring your Halloween spirit — we’ll see you at the pool!
URL:https://allabilitiesfun.com/event/floating-pumpkin-patch-campbell/
LOCATION:Campbell Community Center\, 1 W Campbell Ave Campbell\, CA 95008
CATEGORIES:Campbell
END:VEVENT
BEGIN:VEVENT
DTSTART;TZID=UTC:20250730T190000
DTEND;TZID=UTC:20250730T210000
DTSTAMP:20260420T074125
CREATED:20250626T091804Z
LAST-MODIFIED:20250626T091804Z
UID:1917-1753902000-1753909200@allabilitiesfun.com
SUMMARY:Adaptive and Inclusive Dis-Glow Dance – City of Campbell
DESCRIPTION:Join us for a special night celebrating National Park and Recreation Month. Campbell Recreation invites individuals of all abilities and their loved ones to an inclusive and fun-filled dance event. \nDate: Wednesday\, July 30\nTime: 7:00–9:00 PM (Doors open at 6:45 PM)\nLocation: Campbell Community Center\, Orchard City Banquet Hall\n1 West Campbell Avenue\, Campbell\, CA \nEnjoy music\, light refreshments\, and an evening of dancing and community connection. \nNote: Participants ages 16 and under must be accompanied by a parent or guardian. Direct supervision is not provided.
URL:https://allabilitiesfun.com/event/adaptive-and-inclusive-dis-glow-dance-city-of-campbell/
LOCATION:Campbell Community Center\, 1 W Campbell Ave Campbell\, CA 95008
CATEGORIES:Campbell
END:VEVENT
END:VCALENDAR