BEGIN:VCALENDAR
VERSION:2.0
PRODID:-// - ECPv6.15.14//NONSGML v1.0//EN
CALSCALE:GREGORIAN
METHOD:PUBLISH
X-ORIGINAL-URL:https://allabilitiesfun.com
X-WR-CALDESC:Events for 
REFRESH-INTERVAL;VALUE=DURATION:PT1H
X-Robots-Tag:noindex
X-PUBLISHED-TTL:PT1H
BEGIN:VTIMEZONE
TZID:Asia/Krasnoyarsk
BEGIN:STANDARD
TZOFFSETFROM:+0700
TZOFFSETTO:+0700
TZNAME:+07
DTSTART:20240101T000000
END:STANDARD
END:VTIMEZONE
BEGIN:VEVENT
DTSTART;TZID=Asia/Krasnoyarsk:20250913T100000
DTEND;TZID=Asia/Krasnoyarsk:20250913T130000
DTSTAMP:20260420T085628
CREATED:20250619T204112Z
LAST-MODIFIED:20250713T145131Z
UID:1675-1757757600-1757768400@allabilitiesfun.com
SUMMARY:Chitactac Family Day\, Gilroy
DESCRIPTION:Come play traditional games\, create unique crafts\, and discover what has made this place so special to Indigenous people for thousands of years! \nFor more information\, email interp@prk.sccgov.org.
URL:https://allabilitiesfun.com/event/chitactac-family-day-gilroy/
LOCATION:Chitactac-Adams Heritage County Park\, Main park entrance: 10001 Watsonville Road Gilroy\, CA 95020
CATEGORIES:Gilroy
END:VEVENT
END:VCALENDAR