BEGIN:VCALENDAR
VERSION:2.0
PRODID:-// - ECPv6.15.14//NONSGML v1.0//EN
CALSCALE:GREGORIAN
METHOD:PUBLISH
X-ORIGINAL-URL:https://allabilitiesfun.com
X-WR-CALDESC:Events for 
REFRESH-INTERVAL;VALUE=DURATION:PT1H
X-Robots-Tag:noindex
X-PUBLISHED-TTL:PT1H
BEGIN:VTIMEZONE
TZID:America/Denver
BEGIN:DAYLIGHT
TZOFFSETFROM:-0700
TZOFFSETTO:-0600
TZNAME:MDT
DTSTART:20240310T090000
END:DAYLIGHT
BEGIN:STANDARD
TZOFFSETFROM:-0600
TZOFFSETTO:-0700
TZNAME:MST
DTSTART:20241103T080000
END:STANDARD
BEGIN:DAYLIGHT
TZOFFSETFROM:-0700
TZOFFSETTO:-0600
TZNAME:MDT
DTSTART:20250309T090000
END:DAYLIGHT
BEGIN:STANDARD
TZOFFSETFROM:-0600
TZOFFSETTO:-0700
TZNAME:MST
DTSTART:20251102T080000
END:STANDARD
BEGIN:DAYLIGHT
TZOFFSETFROM:-0700
TZOFFSETTO:-0600
TZNAME:MDT
DTSTART:20260308T090000
END:DAYLIGHT
BEGIN:STANDARD
TZOFFSETFROM:-0600
TZOFFSETTO:-0700
TZNAME:MST
DTSTART:20261101T080000
END:STANDARD
END:VTIMEZONE
BEGIN:VTIMEZONE
TZID:UTC
BEGIN:STANDARD
TZOFFSETFROM:+0000
TZOFFSETTO:+0000
TZNAME:UTC
DTSTART:20240101T000000
END:STANDARD
END:VTIMEZONE
BEGIN:VEVENT
DTSTART;TZID=America/Denver:20251220T100000
DTEND;TZID=America/Denver:20251220T140000
DTSTAMP:20260420T061933
CREATED:20251209T210004Z
LAST-MODIFIED:20251209T210028Z
UID:2870-1766224800-1766239200@allabilitiesfun.com
SUMMARY:Free! Quirky Xmas for Special Needs Families\, Half Moon Bay
DESCRIPTION:When: Saturday\, December 20\, 2025\, 10am-2pm\nWhere: Santa’s Tree Farm\, 78 Pilarcitos Road\, off Hwy 92\, Half Moon Bay\nWho: Autism and special needs families\nDetails: Brought to you by Square Peg Foundation\, in partnership with SFASA. Program includes: \n\nTrain ride\nFree hot dogs\nCoastside Fire Dept and firetruck\nDog adoption agency\nSensory room with bean bag chairs and amenities\nMusical performances\, including the Dream Achievers from 11am-1pm\nCaroling parade\nSanta photos\nConcessions\nScavenger hunt\n\nRegistration: Free! Here. Please register by December 18.\nPlease check out our SFASA Facebook group for updates.\nPlease email Events Chair here with any questions.
URL:https://allabilitiesfun.com/event/free-quirky-xmas-san-francisco/
LOCATION:Santa’s Tree Farm\, 78 Pilarcitos Road\, off Hwy 92\, Half Moon Bay
CATEGORIES:Half Moon Bay
ORGANIZER;CN="SF Autism Society":MAILTO:info@sfautismsociety.org
END:VEVENT
BEGIN:VEVENT
DTSTART;TZID=UTC:20250614T130000
DTEND;TZID=UTC:20250614T150000
DTSTAMP:20260420T061933
CREATED:20250609T113946Z
LAST-MODIFIED:20250610T112539Z
UID:1537-1749906000-1749913200@allabilitiesfun.com
SUMMARY:Art in the Park: Plant Tunes at Half Moon Bay State Beach
DESCRIPTION:Listen to music made by plants–no\, really! Then create a unique piece of artwork inspired by the plant-made tunes. We will walk leisurely along the nature trail\, with several extended stops to listen to what the plants have to say using a piece of technology called PlantWave. You can use the provided supplies to create a unique artwork to take home with you. All ages welcome! \nPark in the day use lot of Half Moon Bay State Beach at 95 Kelly Avenue\, Half Moon Bay\, then walk to the campfire center at the north end of the campground where we will be meeting at 1:00pm. Please wear sun protection\, comfortable shoes\, and dress in layers as weather on the coast is variable. We recommend bringing a portable chair or cushion to sit on the ground with. All art materials are provided. \n\n\n\n\n\n  \n\n\nRSVP to Event\nRegistration is Required \n\n\n\n\n\n\n\nAll events are offered free of charge to the public; however park entrance\, parking\, and/or day-use fees may apply. Please check the Day Use Fees page before your event to prepare for any associated fees.
URL:https://allabilitiesfun.com/event/art-in-the-park-plant-tunes-at-half-moon-bay-sb/
LOCATION:Half Moon Bay State Beach\, 95 Kelly Avenue\, Half Moon Bay
CATEGORIES:Half Moon Bay
END:VEVENT
END:VCALENDAR