BEGIN:VCALENDAR
VERSION:2.0
PRODID:-// - ECPv6.15.14//NONSGML v1.0//EN
CALSCALE:GREGORIAN
METHOD:PUBLISH
X-ORIGINAL-URL:https://allabilitiesfun.com
X-WR-CALDESC:Events for 
REFRESH-INTERVAL;VALUE=DURATION:PT1H
X-Robots-Tag:noindex
X-PUBLISHED-TTL:PT1H
BEGIN:VTIMEZONE
TZID:America/Denver
BEGIN:DAYLIGHT
TZOFFSETFROM:-0700
TZOFFSETTO:-0600
TZNAME:MDT
DTSTART:20240310T090000
END:DAYLIGHT
BEGIN:STANDARD
TZOFFSETFROM:-0600
TZOFFSETTO:-0700
TZNAME:MST
DTSTART:20241103T080000
END:STANDARD
BEGIN:DAYLIGHT
TZOFFSETFROM:-0700
TZOFFSETTO:-0600
TZNAME:MDT
DTSTART:20250309T090000
END:DAYLIGHT
BEGIN:STANDARD
TZOFFSETFROM:-0600
TZOFFSETTO:-0700
TZNAME:MST
DTSTART:20251102T080000
END:STANDARD
BEGIN:DAYLIGHT
TZOFFSETFROM:-0700
TZOFFSETTO:-0600
TZNAME:MDT
DTSTART:20260308T090000
END:DAYLIGHT
BEGIN:STANDARD
TZOFFSETFROM:-0600
TZOFFSETTO:-0700
TZNAME:MST
DTSTART:20261101T080000
END:STANDARD
END:VTIMEZONE
BEGIN:VTIMEZONE
TZID:UTC
BEGIN:STANDARD
TZOFFSETFROM:+0000
TZOFFSETTO:+0000
TZNAME:UTC
DTSTART:20240101T000000
END:STANDARD
END:VTIMEZONE
BEGIN:VEVENT
DTSTART;TZID=America/Denver:20251018T130000
DTEND;TZID=America/Denver:20251018T160000
DTSTAMP:20260420T055530
CREATED:20251012T024001Z
LAST-MODIFIED:20251012T024001Z
UID:2690-1760792400-1760803200@allabilitiesfun.com
SUMMARY:Fearless Path’s Halloween TRUNK-or-TREAT Fall Spooktacular\, Hayward
DESCRIPTION:It’s that time of year again… let the FUN begin! \nGet ready for an afternoon of spooky fun and community spirit at Fearless Path’s 7th Annual Halloween TRUNK-or-TREAT Fall Spooktacular! \nThis Special Need and Autism-Friendly Event is open to ALL\, with a special focus on providing a safe\, fun and supportive space for individuals with neurodiversity and their families. Come enjoy a FREE\, inclusive celebration where everyone can have a blast\, be themselves\, and create lasting memories! \nAll Ages Welcome | Costumes Optional but Highly Recommended \nDate: Saturday\, October 18\, 2025\nTime: 1:00pm – 4:00pm\nLocation:\nThe HUB – HUSD Parents Resource Center\n24823 Soto Road\, Hayward\, CA 94544 \nTRUNK-or-TREAT: A twist on traditional trick-or-treating\, with decorated car trunks full of candies and surprises | \nResource Fair & Family Activities | Sensory Space | Crafts | Children’s Book Giveaway | Face Painting | Games | Free Snacks!\nThis event is open to all\, and it’s designed to be a safe space where everyone can have a good time and feel celebrated. We believe in the power of community and want to ensure that families can relax and enjoy the day together without any stress or pressure. \nREGISTER TODAY at www.fearlesspath.org to reserve your
URL:https://allabilitiesfun.com/event/fearless-paths-halloween-trunk-or-treat-fall-spooktacular-hayward/
LOCATION:The HUB – HUSD Parents Resource Center\, 24823 Soto Road\, Hayward\, CA 94544
CATEGORIES:Hayward
END:VEVENT
BEGIN:VEVENT
DTSTART;TZID=UTC:20250621T133000
DTEND;TZID=UTC:20250621T153000
DTSTAMP:20260420T055530
CREATED:20250616T115651Z
LAST-MODIFIED:20250616T115706Z
UID:1631-1750512600-1750519800@allabilitiesfun.com
SUMMARY:Welcome to Summer Pool Party at Arroyo\, Hayward
DESCRIPTION:Join us for a Welcome to Summer Pool Party on Saturday\, June 21 from 1:30–3:30 PM. Enjoy free swim\, tasty food and treats\, fun giveaways\, and more–kicking off free rec swim at Arroyo this summer!
URL:https://allabilitiesfun.com/event/welcome-to-summer-pool-party-at-arroyo-hayward/
LOCATION:Arroyo Swim Center\, 15701 Lorenzo San Lorenzo\, CA 94580
CATEGORIES:Hayward
END:VEVENT
BEGIN:VEVENT
DTSTART;TZID=UTC:20250621T100000
DTEND;TZID=UTC:20250621T130000
DTSTAMP:20260420T055530
CREATED:20250616T115351Z
LAST-MODIFIED:20250616T115429Z
UID:1627-1750500000-1750510800@allabilitiesfun.com
SUMMARY:Family Art Day\, Hayward
DESCRIPTION:Drop in for a free day of hands-on arts fun for the whole family! Explore your creative side with interactive craft stations\, meet inspiring local artists\, and learn about our arts programs. \n\nHands-on art activities for all ages\nMeet local artists and makers\nCreative giveaways & art-themed prizes\nFree treats while you create\n\nThis event highlights the vibrant world of community arts–no registration needed\, just come and create!
URL:https://allabilitiesfun.com/event/family-art-day-hayward/
LOCATION:Adobe Art Center\, 20395 San Miguel Ave. Castro Valley\, CA 94546
CATEGORIES:Hayward
END:VEVENT
BEGIN:VEVENT
DTSTART;TZID=UTC:20250621T060000
DTEND;TZID=UTC:20250621T200000
DTSTAMP:20260420T055530
CREATED:20250616T120407Z
LAST-MODIFIED:20250616T120431Z
UID:1638-1750485600-1750536000@allabilitiesfun.com
SUMMARY:Black and White Ball for Adults with Special Needs\, Hayward
DESCRIPTION:Dress your best in formal or semi-formal black and white attire for this elegant occasion. This dance is for adults with Special Needs. Registration includes dinner\, dessert\, photo booth\, dancing\, and an adaptive Tango lesson.
URL:https://allabilitiesfun.com/event/black-and-white-ball-for-adults-with-special-needs-hayward/
LOCATION:Sorensdale Recreation Center\, 275 Goodwin Street Hayward\, CA 94544
CATEGORIES:Hayward
END:VEVENT
END:VCALENDAR