BEGIN:VCALENDAR
VERSION:2.0
PRODID:-// - ECPv6.15.14//NONSGML v1.0//EN
CALSCALE:GREGORIAN
METHOD:PUBLISH
X-ORIGINAL-URL:https://allabilitiesfun.com
X-WR-CALDESC:Events for 
REFRESH-INTERVAL;VALUE=DURATION:PT1H
X-Robots-Tag:noindex
X-PUBLISHED-TTL:PT1H
BEGIN:VTIMEZONE
TZID:Asia/Krasnoyarsk
BEGIN:STANDARD
TZOFFSETFROM:+0700
TZOFFSETTO:+0700
TZNAME:+07
DTSTART:20240101T000000
END:STANDARD
END:VTIMEZONE
BEGIN:VTIMEZONE
TZID:America/Denver
BEGIN:DAYLIGHT
TZOFFSETFROM:-0700
TZOFFSETTO:-0600
TZNAME:MDT
DTSTART:20240310T090000
END:DAYLIGHT
BEGIN:STANDARD
TZOFFSETFROM:-0600
TZOFFSETTO:-0700
TZNAME:MST
DTSTART:20241103T080000
END:STANDARD
BEGIN:DAYLIGHT
TZOFFSETFROM:-0700
TZOFFSETTO:-0600
TZNAME:MDT
DTSTART:20250309T090000
END:DAYLIGHT
BEGIN:STANDARD
TZOFFSETFROM:-0600
TZOFFSETTO:-0700
TZNAME:MST
DTSTART:20251102T080000
END:STANDARD
BEGIN:DAYLIGHT
TZOFFSETFROM:-0700
TZOFFSETTO:-0600
TZNAME:MDT
DTSTART:20260308T090000
END:DAYLIGHT
BEGIN:STANDARD
TZOFFSETFROM:-0600
TZOFFSETTO:-0700
TZNAME:MST
DTSTART:20261101T080000
END:STANDARD
END:VTIMEZONE
BEGIN:VTIMEZONE
TZID:UTC
BEGIN:STANDARD
TZOFFSETFROM:+0000
TZOFFSETTO:+0000
TZNAME:UTC
DTSTART:20240101T000000
END:STANDARD
END:VTIMEZONE
BEGIN:VEVENT
DTSTART;TZID=Asia/Krasnoyarsk:20251213T090000
DTEND;TZID=Asia/Krasnoyarsk:20251213T100000
DTSTAMP:20260420T071613
CREATED:20250620T130027Z
LAST-MODIFIED:20251211T195032Z
UID:1743-1765616400-1765620000@allabilitiesfun.com
SUMMARY:Free! Martial Arts Saturday Classes for Kids with Special Needs\, Newark
DESCRIPTION:Saturdays @ 9 AM \n\n\nCome try us today!\n\n\n\nDo you have or know a child with special needs? Bring them to our weekly class every Saturday at 9 AM. Drop us an email to let us know you’re coming! Note: the time does change from time to time so please do reach out to them before you go to the event. \nWe understand the tremendous financial responsibility it takes to raise a child with special needs. All classes are completely free—enrollment and equipment is provided at no cost. \nWe empower children and young adults with special needs to build strength and confidence through Brazilian Jiu Jitsu and other martial arts. \nNeed to Believe Foundation\, Inc. is a non-profit charitable corporation with 501(c)(3) tax exempt status in the United States. \n  \n  \n 
URL:https://allabilitiesfun.com/event/free-martial-arts-classes-for-special-needs-newark/
LOCATION:Alonso Academy\, 36601 Newark Blvd\, Unit 77\, Newark\, CA 94560\, United States
CATEGORIES:Newark
END:VEVENT
BEGIN:VEVENT
DTSTART;TZID=America/Denver:20251108T083000
DTEND;TZID=America/Denver:20251108T110000
DTSTAMP:20260420T071613
CREATED:20250917T054906Z
LAST-MODIFIED:20251105T151301Z
UID:2582-1762590600-1762599600@allabilitiesfun.com
SUMMARY:Free! Fishing In the City\, Newark
DESCRIPTION:Join the City of Newark Recreation Department and Public Works for a fun morning of fishing! \nYouth between the ages of 5–15 will enjoy: \n\n Basic instruction on knot tying\n🐟 Casting practice\n🧰 Fish handling techniques\n\nThis is a great opportunity for kids to learn new skills\, spend time outdoors\, and enjoy fishing in a safe and supportive environment.
URL:https://allabilitiesfun.com/event/free-fishing-in-the-city-newark/
LOCATION:The Boathouse at Lakeshore Park
CATEGORIES:Newark
END:VEVENT
BEGIN:VEVENT
DTSTART;TZID=America/Denver:20251024T183000
DTEND;TZID=America/Denver:20251024T203000
DTSTAMP:20260420T071613
CREATED:20250917T054500Z
LAST-MODIFIED:20250924T043947Z
UID:2579-1761330600-1761337800@allabilitiesfun.com
SUMMARY:Adaptive and Regular Floating Pumpkin Patches\, Newark
DESCRIPTION:Join us for Newark’s Floating Pumpkin Patch on Friday\, October 24 at the Silliman Family Aquatic Center! 🌊🍂 \n🕡 6:30–8:00 PM\n💲 $10 Newark Residents | $13 Non-Residents\n📍Silliman Center | 6800 Mowry Ave\, Newark \nEnjoy 1.5 hours of rec swim in the Activity Pool & Lazy River\, then pick out your very own pumpkin to take home! 🏊‍♂️🎃 \n✨ Bonus: Our Adaptive Floating Pumpkin Patch will be held from 4:30–6:00 PM. \n👉 Register now at newarkca.activityreg.com — spots will fill fast!
URL:https://allabilitiesfun.com/event/floating-pumpkin-patch-newark/
LOCATION:Silliman Center\, 6800 Mowry Ave\, Newark\, CA 94560
CATEGORIES:Newark
END:VEVENT
BEGIN:VEVENT
DTSTART;TZID=UTC:20250919T170000
DTEND;TZID=UTC:20250919T190000
DTSTAMP:20260420T071613
CREATED:20250610T112438Z
LAST-MODIFIED:20250814T223045Z
UID:1544-1758301200-1758308400@allabilitiesfun.com
SUMMARY:Special Needs Silent Splash Swim\, Newark
DESCRIPTION:Make a splash at Newark’s Glow-in-the-Dark Silent Splash Swim—a sensory-friendly event designed specifically for kids with special needs. Enjoy calming lights\, music-free swimming\, and glow-themed fun in a safe\, supportive environment. \nNote: A parent or guardian must accompany each child in the water (1 adult per child). All participants are required to pay.
URL:https://allabilitiesfun.com/event/special-needs-silent-splash-swim-newark/
LOCATION:Silliman Center\, 6800 Mowry Ave\, Newark\, CA 94560
CATEGORIES:Newark
END:VEVENT
BEGIN:VEVENT
DTSTART;TZID=UTC:20250624T100000
DTEND;TZID=UTC:20250624T113000
DTSTAMP:20260420T071613
CREATED:20250610T111738Z
LAST-MODIFIED:20250610T111802Z
UID:1540-1750759200-1750764600@allabilitiesfun.com
SUMMARY:Big Truck Day\, Newark
DESCRIPTION:Bring the family to explore big trucks up close at the FREE Big Truck Day hosted by Newark Recreation and Community Services! Kids can sit in real service vehicles\, enjoy fun games\, arts & crafts\, and connect with vendors and community resources. Perfect for preschool and elementary-aged children.
URL:https://allabilitiesfun.com/event/big-truck-day-newark/
LOCATION:Silliman Center\, 6800 Mowry Ave\, Newark\, CA 94560
CATEGORIES:Newark
END:VEVENT
END:VCALENDAR