BEGIN:VCALENDAR
VERSION:2.0
PRODID:-// - ECPv6.15.14//NONSGML v1.0//EN
CALSCALE:GREGORIAN
METHOD:PUBLISH
X-ORIGINAL-URL:https://allabilitiesfun.com
X-WR-CALDESC:Events for 
REFRESH-INTERVAL;VALUE=DURATION:PT1H
X-Robots-Tag:noindex
X-PUBLISHED-TTL:PT1H
BEGIN:VTIMEZONE
TZID:UTC
BEGIN:STANDARD
TZOFFSETFROM:+0000
TZOFFSETTO:+0000
TZNAME:UTC
DTSTART:20240101T000000
END:STANDARD
END:VTIMEZONE
BEGIN:VEVENT
DTSTART;TZID=UTC:20250621T100000
DTEND;TZID=UTC:20250621T150000
DTSTAMP:20260423T100320
CREATED:20250618T044243Z
LAST-MODIFIED:20250618T045014Z
UID:1643-1750500000-1750518000@allabilitiesfun.com
SUMMARY:Petaluma Airport Summer Bash\, Petaluma
DESCRIPTION:Petaluma Airport opens part of the ramp to the public for up close viewing of aircraft.\nFeaturing Sonoma County Sheriff’s “Henry One”and Reach Air Medical Services “Sonoma One” helicopters and Eddie Andreini’s P-51 Mustang and other WWII aircraft.\nFree Admission – Free parking. Food vendors on-site or enjoy a sit down meal at the Airport’s Two Niner Diner Restaurant. Come enjoy a family-friendly community event! \n 
URL:https://allabilitiesfun.com/event/petaluma-airport-summer-bash-petaluma/
LOCATION:Petaluma Municipal Airport\, 601 Sky Ranch Drive
CATEGORIES:Petaluma
END:VEVENT
END:VCALENDAR